BEGIN:VCALENDAR
VERSION:2.0
PRODID:-//103.42.224.132//NONSGML kigkonsult.se iCalcreator 2.26.9//
CALSCALE:GREGORIAN
METHOD:PUBLISH
X-WR-CALNAME:Cats Queensland Inc.
X-WR-CALDESC:Cats Queensland Inc. - Pedigree Cat Asssociation
X-FROM-URL:https://www.catsqld.org.au
X-WR-TIMEZONE:Australia/Brisbane
BEGIN:VTIMEZONE
TZID:Australia/Brisbane
X-LIC-LOCATION:Australia/Brisbane
BEGIN:STANDARD
DTSTART:19920301T030000
TZOFFSETFROM:+1100
TZOFFSETTO:+1000
TZNAME:AEST
END:STANDARD
END:VTIMEZONE
BEGIN:VEVENT
UID:ai1ec-560@test.catsqld.org.au
DTSTAMP:20210301T031902Z
CATEGORIES;LANGUAGE=en-AU:Special Events
CONTACT:The Secretary\; secretary@catsqld.org.au
DESCRIPTION:Will be held on the first weekend in March. Exact date and venu
 e to be advised.
DTSTART;TZID=Australia/Brisbane:20180303T113000
DTEND;TZID=Australia/Brisbane:20180303T143000
GEO:-27.594534;+152.74589
LOCATION:McDonalds Brassall @ Haig St & Hunter St\, Brassall QLD 4305\, Aus
 tralia
SEQUENCE:0
SUMMARY:Cats Queensland Inc Annual General Meeting 2018
URL:https://www.catsqld.org.au/event/cats-queensland-inc-annual-general-mee
 ting-2018/
X-COST-TYPE:free
X-ALT-DESC;FMTTYPE=text/html:<!DOCTYPE HTML PUBLIC '-//W3C//DTD HTML 3.2//E
 N'>\\n<HTML>\\n<HEAD>\\n<TITLE></TITLE>\\n</HEAD>\\n<BODY><p>Will be held 
 on the first weekend in March. Exact date and venue to be advised.</p>\n</
 BODY></HTML>
END:VEVENT
END:VCALENDAR
