BEGIN:VCALENDAR
VERSION:2.0
PRODID:-//103.42.224.132//NONSGML kigkonsult.se iCalcreator 2.26.9//
CALSCALE:GREGORIAN
METHOD:PUBLISH
X-WR-CALNAME:Cats Queensland Inc.
X-WR-CALDESC:Cats Queensland Inc. - Pedigree Cat Asssociation
X-FROM-URL:https://www.catsqld.org.au
X-WR-TIMEZONE:Australia/Brisbane
BEGIN:VTIMEZONE
TZID:Australia/Brisbane
X-LIC-LOCATION:Australia/Brisbane
BEGIN:STANDARD
DTSTART:19920301T030000
TZOFFSETFROM:+1100
TZOFFSETTO:+1000
TZNAME:AEST
END:STANDARD
END:VTIMEZONE
BEGIN:VEVENT
UID:ai1ec-396@test.catsqld.org.au
DTSTAMP:20210301T032826Z
CATEGORIES;LANGUAGE=en-AU:Show
CONTACT:Chris Merritt\; 0417 370 045\; https://www.catsqld.org.au/wp-conten
 t/uploads/2018/01/Exotic-September-2018.pdf
DESCRIPTION:<p><strong>Show Schedule: </strong><strong><a href='https://www
 .catsqld.org.au/wp-content/uploads/2018/01/Exotic-September-2018.pdf'>Exot
 ic September 2018</a></strong></p>\n<p><span style='color: #ff0000\;'><str
 ong>Entries Close: <span style='color: #000000\;'>Friday 14th September 20
 18</span></strong></span></p>\n<p class='details-only' style='text-align: 
 center\;'><strong><span style='font-family: 'comic sans ms'\, sans-serif\;
  font-size: 24pt\;'>The Exotic Cat Club of Qld Inc</span></strong><br />\n
 Affiliated with Cats Queensland Inc</p>\n<p class='details-only' style='te
 xt-align: center\;'><span style='font-size: 14pt\;'><strong><em>Proudly sp
 onsored by</em></strong></span><br />\n<span style='font-size: 14pt\;'>Bla
 ck Hawk\, Oz-Pet\, Orivet\, Safe4</span></p>\n<p class='details-only' styl
 e='text-align: center\;'>Invites you to attend our <strong>THREE</strong> 
 rings\, open style<br />\n<span style='font-size: 14pt\;'><strong>ALL-BREE
 DS CHAMPIONSHIP</strong></span><br />\n<span style='font-size: 14pt\;'><st
 rong>CAT AND KITTEN SHOW</strong></span><br />\nto be held<br />\n<strong>
 Sunday 23rd September 2018</strong><br />\nat the<br />\n<strong>SOUTHS SP
 ORTS CLUB</strong><br />\nMortimer Rd\, Acacia Ridge</p>
DTSTART;TZID=Australia/Brisbane:20180923T083000
DTEND;TZID=Australia/Brisbane:20180923T160000
GEO:-27.576563;+153.018461
LOCATION:Souths Sports Club @ Brandon Park Reserve\, Mortimer Rd\, Acacia R
 idge QLD 4110\, Australia
SEQUENCE:0
SUMMARY:The Exotic Cat Club of Queensland Inc Show
URL:https://www.catsqld.org.au/event/the-exotic-cat-club-of-queensland-inc-
 show-2/
X-COST-TYPE:free
END:VEVENT
END:VCALENDAR
