BEGIN:VCALENDAR
VERSION:2.0
PRODID:-//103.42.224.132//NONSGML kigkonsult.se iCalcreator 2.26.9//
CALSCALE:GREGORIAN
METHOD:PUBLISH
X-WR-CALNAME:Cats Queensland Inc.
X-WR-CALDESC:Cats Queensland Inc. - Pedigree Cat Asssociation
X-FROM-URL:https://www.catsqld.org.au
X-WR-TIMEZONE:Australia/Brisbane
BEGIN:VTIMEZONE
TZID:Australia/Brisbane
X-LIC-LOCATION:Australia/Brisbane
BEGIN:STANDARD
DTSTART:19920301T030000
TZOFFSETFROM:+1100
TZOFFSETTO:+1000
TZNAME:AEST
END:STANDARD
END:VTIMEZONE
BEGIN:VEVENT
UID:ai1ec-395@test.catsqld.org.au
DTSTAMP:20210301T032054Z
CATEGORIES;LANGUAGE=en-AU:Show
CONTACT:Carolynn Davis\; carolynn.davis@outlook.com
DESCRIPTION:Show Schedule: The Exotic Cat Club Show Schedule – March 2018\n
 Entries Close: Sunday 11th March\, 2018\n\nThis 3 ring show will be held a
 t the South’s Sports Club. There are\, as always\, great prizes and rosett
 es on offer so come along and enjoy a fun day out with the Exotic cat Club
  of Qld Inc.
DTSTART;TZID=Australia/Brisbane:20180318T083000
DTEND;TZID=Australia/Brisbane:20180318T160000
GEO:-27.576563;+153.018461
LOCATION:Souths Sports Club @ Brandon Park Reserve\, Mortimer Rd\, Acacia R
 idge QLD 4110\, Australia
SEQUENCE:0
SUMMARY:The Exotic Cat Club of Queensland Inc Show
URL:https://www.catsqld.org.au/event/the-exotic-cat-club-of-queensland-inc-
 show/
X-COST-TYPE:free
X-ALT-DESC;FMTTYPE=text/html:<!DOCTYPE HTML PUBLIC '-//W3C//DTD HTML 3.2//E
 N'>\\n<HTML>\\n<HEAD>\\n<TITLE></TITLE>\\n</HEAD>\\n<BODY><p><strong>Show 
 Schedule:</strong> <a href='/wp-content/uploads/2018/03/Exotic-MARCH-18.pd
 f'>The Exotic Cat Club Show Schedule – March 2018</a></p>\n<p><span style=
 'color: #ff0000\;'><strong>Entries Close: Sunday 11th March\, 2018</strong
 ></span></p>\n<div class='details-only'>\nThis 3 ring show will be held at
  the South’s Sports Club. There are\, as always\, great prizes and rosette
 s on offer so come along and enjoy a fun day out with the Exotic cat Club 
 of Qld Inc.\n</div>\n</BODY></HTML>
END:VEVENT
END:VCALENDAR
