BEGIN:VCALENDAR
VERSION:2.0
PRODID:-//103.42.224.132//NONSGML kigkonsult.se iCalcreator 2.26.9//
CALSCALE:GREGORIAN
METHOD:PUBLISH
X-WR-CALNAME:Cats Queensland Inc.
X-WR-CALDESC:Cats Queensland Inc. - Pedigree Cat Asssociation
X-FROM-URL:https://www.catsqld.org.au
X-WR-TIMEZONE:Australia/Brisbane
BEGIN:VTIMEZONE
TZID:Australia/Brisbane
X-LIC-LOCATION:Australia/Brisbane
BEGIN:STANDARD
DTSTART:19920301T030000
TZOFFSETFROM:+1100
TZOFFSETTO:+1000
TZNAME:AEST
END:STANDARD
END:VTIMEZONE
BEGIN:VEVENT
UID:ai1ec-393@test.catsqld.org.au
DTSTAMP:20210301T032944Z
CATEGORIES;LANGUAGE=en-AU:Show
CONTACT:Chris Merritt\; jovelles@gmail.com
DESCRIPTION:Show Schedule: CQI October 2018 Show Schedule\nEntries Close: F
 riday October 19th\, 2018
DTSTART;TZID=Australia/Brisbane:20181028T083000
DTEND;TZID=Australia/Brisbane:20181028T160000
GEO:-27.576563;+153.018461
LOCATION:Souths Sports Club @ Brandon Park Reserve\, Mortimer Rd\, Acacia R
 idge QLD 4110\, Australia
SEQUENCE:0
SUMMARY:Cats Queensland Inc Show
URL:https://www.catsqld.org.au/event/cats-queensland-inc-show-4/
X-COST-TYPE:free
X-ALT-DESC;FMTTYPE=text/html:<!DOCTYPE HTML PUBLIC '-//W3C//DTD HTML 3.2//E
 N'>\\n<HTML>\\n<HEAD>\\n<TITLE></TITLE>\\n</HEAD>\\n<BODY><p><strong>Show 
 Schedule: <a href='https://www.catsqld.org.au/wp-content/uploads/2018/01/C
 QI-OCT-2018.pdf'>CQI October 2018 Show Schedule</a></strong></p>\n<p><span
  style='color: #ff0000\;'><strong>Entries Close: Friday October 19th\, 201
 8</strong></span></p>\n</BODY></HTML>
END:VEVENT
END:VCALENDAR
