BEGIN:VCALENDAR
VERSION:2.0
PRODID:-//103.42.224.132//NONSGML kigkonsult.se iCalcreator 2.26.9//
CALSCALE:GREGORIAN
METHOD:PUBLISH
X-WR-CALNAME:Cats Queensland Inc.
X-WR-CALDESC:Cats Queensland Inc. - Pedigree Cat Asssociation
X-FROM-URL:https://www.catsqld.org.au
X-WR-TIMEZONE:Australia/Brisbane
BEGIN:VTIMEZONE
TZID:Australia/Brisbane
X-LIC-LOCATION:Australia/Brisbane
BEGIN:STANDARD
DTSTART:19920301T030000
TZOFFSETFROM:+1100
TZOFFSETTO:+1000
TZNAME:AEST
END:STANDARD
END:VTIMEZONE
BEGIN:VEVENT
UID:ai1ec-372@test.catsqld.org.au
DTSTAMP:20210301T032145Z
CATEGORIES;LANGUAGE=en-AU:Show
CONTACT:Carolynn Davis\; carolynn.davis@outlook.com
DESCRIPTION:<p><strong>Show Schedule:</strong> <a href='https://www.catsqld
 .org.au/wp-content/uploads/2018/03/Curly-April-2018.pdf'>Curly Coats Show 
 Schedule – April 2018</a></p>\n<p><span style='color: #ff0000\;'><strong>E
 ntries Close: Friday 30th March\, 2018</strong></span></p>
DTSTART;TZID=Australia/Brisbane:20180408T083000
DTEND;TZID=Australia/Brisbane:20180408T160000
GEO:-27.576563;+153.018461
LOCATION:Souths Sports Club @ Brandon Park Reserve\, Mortimer Rd\, Acacia R
 idge QLD 4110\, Australia
SEQUENCE:0
SUMMARY:Curly Coats Cat Club of Queensland Inc Show
URL:https://www.catsqld.org.au/event/curly-coats-cat-club-of-queensland-inc
 -show/
X-COST-TYPE:free
END:VEVENT
END:VCALENDAR
