BEGIN:VCALENDAR
VERSION:2.0
PRODID:-//103.42.224.132//NONSGML kigkonsult.se iCalcreator 2.26.9//
CALSCALE:GREGORIAN
METHOD:PUBLISH
X-WR-CALNAME:Cats Queensland Inc.
X-WR-CALDESC:Cats Queensland Inc. - Pedigree Cat Asssociation
X-FROM-URL:https://www.catsqld.org.au
X-WR-TIMEZONE:Australia/Brisbane
BEGIN:VTIMEZONE
TZID:Australia/Brisbane
X-LIC-LOCATION:Australia/Brisbane
BEGIN:STANDARD
DTSTART:19920301T030000
TZOFFSETFROM:+1100
TZOFFSETTO:+1000
TZNAME:AEST
END:STANDARD
END:VTIMEZONE
BEGIN:VEVENT
UID:ai1ec-1139@www.catsqld.org.au
DTSTAMP:20210301T033804Z
CATEGORIES;LANGUAGE=en-AU:Show\,Special Events
CONTACT:Joanne Greentree (NSWCFA)\; 0409 123 906\; cccanational2019@gmail.c
 om
DESCRIPTION:Show Schedule: CCCA 2019 Nationals Schedule\nPOST ENTRIES TO: 
 \nShow Secretary (Joanne Greentree – NSWCFA)\nP.O. Box 47 Windsor\, NSW 27
 56\nENTRIES CLOSE: 14 June\, 2019\n\n2019 CCCA NATIONAL CAT SHOW\nHosted b
 y\nNSW Cat Fanciers Association Inc.\nSATURDAY 20 & SUNDAY 21 JULY 2019\n
 \nHills Sports Stadium Fred Caterson Reserve\nCaterson Drive\, Castle Hill
 \, NSW\n\nOpen to members of registering bodies recognised by CCCA\nas wel
 l as members of Cats NSW and ANCATS with exhibits that have a Verifiable P
 edigree.\nThe show will be conducted Australian Bay Style Judging 7 rings
DTSTART;TZID=Australia/Brisbane:20190720T063000
DTEND;TZID=Australia/Brisbane:20190721T163000
GEO:-33.722615;+150.983198
LOCATION:Hills Sports Stadium\, Fred Caterson Reserve @ Caterson Dr\, Castl
 e Hill NSW 2154\, Australia
SEQUENCE:0
SUMMARY:CCC of A National Show 2019
URL:https://www.catsqld.org.au/event/ccc-of-a-national-show-2019-2/
X-COST-TYPE:free
X-ALT-DESC;FMTTYPE=text/html:<!DOCTYPE HTML PUBLIC '-//W3C//DTD HTML 3.2//E
 N'>\\n<HTML>\\n<HEAD>\\n<TITLE></TITLE>\\n</HEAD>\\n<BODY><p><strong>Show 
 Schedule: <a href='https://www.catsqld.org.au/wp-content/uploads/2018/10/C
 CCA-2019-Nationals-Schedule.pdf'>CCCA 2019 Nationals Schedule</a></strong>
 </p>\n<p><strong>POST ENTRIES TO: </strong><br />\nShow Secretary (Joanne 
 Greentree – NSWCFA)<br />\nP.O. Box 47 Windsor\, NSW 2756</p>\n<p><span st
 yle='color: #ff0000\;'><strong>ENTRIES CLOSE: </strong><strong><span style
 ='color: #000000\;'>14 June\, 2019</span></strong></span></p>\n<div class=
 'details-only'>\n<h2 style='text-align: center\;'><span style='font-family
 : 'arial black'\, sans-serif\; color: #0000ff\;'>2019 CCCA NATIONAL CAT SH
 OW</span></h2>\n<p style='text-align: center\;'><span style='font-size: 18
 pt\;'>Hosted by<br />\n</span><span style='color: #0000ff\; font-family: '
 arial black'\, sans-serif\; font-size: 18pt\;'>NSW Cat Fanciers Associatio
 n Inc.</span></p>\n<p style='text-align: center\;'><span style='color: #00
 00ff\; font-size: 14pt\;'>SATURDAY 20 & SUNDAY 21 JULY 2019<br />\n</span>
 <br />\n<strong>Hills Sports Stadium Fred Caterson Reserve</strong><br />
 \n<strong>Caterson Drive\, Castle Hill\, NSW<br />\n</strong><br />\nOpen 
 to members of registering bodies recognised by CCCA<br />\nas well as memb
 ers of Cats NSW and ANCATS with exhibits that have a Verifiable Pedigree.<
 /p>\n<p style='text-align: center\;'><span style='color: #0000ff\; font-fa
 mily: 'arial black'\, sans-serif\;'><strong>The show will be conducted Aus
 tralian Bay Style Judging 7 rings</strong></span></p>\n</div>\n</BODY></HT
 ML>
END:VEVENT
END:VCALENDAR
