BEGIN:VCALENDAR
VERSION:2.0
PRODID:-//103.42.224.132//NONSGML kigkonsult.se iCalcreator 2.26.9//
CALSCALE:GREGORIAN
METHOD:PUBLISH
X-WR-CALNAME:Cats Queensland Inc.
X-WR-CALDESC:Cats Queensland Inc. - Pedigree Cat Asssociation
X-FROM-URL:https://www.catsqld.org.au
X-WR-TIMEZONE:Australia/Brisbane
BEGIN:VTIMEZONE
TZID:Australia/Brisbane
X-LIC-LOCATION:Australia/Brisbane
BEGIN:STANDARD
DTSTART:19920301T030000
TZOFFSETFROM:+1100
TZOFFSETTO:+1000
TZNAME:AEST
END:STANDARD
END:VTIMEZONE
BEGIN:VEVENT
UID:ai1ec-1119@www.catsqld.org.au
DTSTAMP:20210301T034012Z
CATEGORIES;LANGUAGE=en-AU:Show
CONTACT:Carolynn Davis\; 0434 658 528\; carolynn.davis@outlook.com\; https:
 //www.catsqld.org.au/wp-content/uploads/2018/10/Exotic-September-2019.pdf
DESCRIPTION:Show Schedule: Exotic Cat Show – September 2019\nEntries Close:
  Friday 13th September\, 2019\n\nThe Exotic Cat Club of Qld Inc\nAffiliate
 d with Cats Queensland Inc\nProudly sponsored by\nOz-Pet\, Black Hawk\, Or
 ivet\, Chemical Essentials\, Catz Matz\n& CatPad Enclosures\nInvites you t
 o attend our THREE rings\, open style\nALL-BREEDS CHAMPIONSHIP\nCAT AND KI
 TTEN SHOW\nPLUS\, EXOTIC & POINTED SPECIALTY RING\nto be held\nSunday 22nd
  September 2019\nACACIA RIDGE FUNCTION CENTRE\n1386 Beaudesert Rd\, Acacia
  Ridge
DTSTART;TZID=Australia/Brisbane:20190922T083000
DTEND;TZID=Australia/Brisbane:20190922T160000
GEO:-27.586911;+153.027911
LOCATION:Acacia Ridge Function Centre @ 1386 Beaudesert Rd\, Acacia Ridge Q
 LD 4110\, Australia
SEQUENCE:0
SUMMARY:The Exotic Cat Club of Queensland Inc Show
URL:https://www.catsqld.org.au/event/the-exotic-cat-club-of-queensland-inc-
 show-2-2/
X-COST-TYPE:free
X-ALT-DESC;FMTTYPE=text/html:<!DOCTYPE HTML PUBLIC '-//W3C//DTD HTML 3.2//E
 N'>\\n<HTML>\\n<HEAD>\\n<TITLE></TITLE>\\n</HEAD>\\n<BODY><p><strong>Show 
 Schedule: <a href='https://www.catsqld.org.au/wp-content/uploads/2018/10/E
 xotic-September-2019.pdf' target='_blank' rel='noopener noreferrer'>Exotic
  Cat Show – September 2019</a></strong></p>\n<p><span style='color: #ff000
 0\;'><strong>Entries Close: </strong></span><strong>Friday 13th September\
 , 2019</strong></p>\n<div class='details-only'>\n<p style='text-align: cen
 ter\;'><strong><span style='font-family: 'comic sans ms'\, sans-serif\; fo
 nt-size: 24pt\;'>The Exotic Cat Club of Qld Inc</span></strong><br />\nAff
 iliated with Cats Queensland Inc</p>\n<p style='text-align: center\;'><spa
 n style='font-size: 14pt\;'><em><strong>Proudly sponsored by</strong></em>
 </span><br />\n<span style='font-size: 14pt\;'><em><strong>Oz-Pet\, Black 
 Hawk\, Orivet\, Chemical Essentials\, Catz Matz</strong></em></span><br />
 \n<span style='font-size: 14pt\;'><em><strong>& CatPad Enclosures</strong>
 </em></span></p>\n<p style='text-align: center\;'>Invites you to attend ou
 r <strong>THREE</strong> rings\, open style<br />\n<span style='font-size:
  18pt\;'><strong>ALL-BREEDS CHAMPIONSHIP</strong></span><br />\n<span styl
 e='font-size: 18pt\;'><strong>CAT AND KITTEN SHOW</strong></span><br />\n<
 span style='font-size: 18pt\;'>PLUS\,<span style='text-decoration: underli
 ne\; color: #0000ff\;'><strong> EXOTIC & POINTED SPECIALTY RING</strong></
 span></span><br />\nto be held<br />\n<strong><span style='color: #ff0000\
 ; font-size: 18pt\;'>Sunday 22nd September 2019</span></strong><br />\n<sp
 an style='font-size: 18pt\; font-family: 'comic sans ms'\, sans-serif\;'><
 strong>ACACIA RIDGE FUNCTION CENTRE</strong></span><br />\n<span style='fo
 nt-size: 14pt\;'>1386 Beaudesert Rd\, Acacia Ridge</span></p>\n</div>\n</B
 ODY></HTML>
END:VEVENT
END:VCALENDAR
